BEGIN:VCALENDAR
VERSION:2.0
PRODID:-//Vilniaus arkivyskupija - ECPv6.15.20//NONSGML v1.0//EN
CALSCALE:GREGORIAN
METHOD:PUBLISH
X-WR-CALNAME:Vilniaus arkivyskupija
X-ORIGINAL-URL:https://vilnensis.lt/?lang=en
X-WR-CALDESC:Events for Vilniaus arkivyskupija
REFRESH-INTERVAL;VALUE=DURATION:PT1H
X-Robots-Tag:noindex
X-PUBLISHED-TTL:PT1H
BEGIN:VTIMEZONE
TZID:Europe/Vilnius
BEGIN:DAYLIGHT
TZOFFSETFROM:+0200
TZOFFSETTO:+0300
TZNAME:EEST
DTSTART:20250330T010000
END:DAYLIGHT
BEGIN:STANDARD
TZOFFSETFROM:+0300
TZOFFSETTO:+0200
TZNAME:EET
DTSTART:20251026T010000
END:STANDARD
BEGIN:DAYLIGHT
TZOFFSETFROM:+0200
TZOFFSETTO:+0300
TZNAME:EEST
DTSTART:20260329T010000
END:DAYLIGHT
BEGIN:STANDARD
TZOFFSETFROM:+0300
TZOFFSETTO:+0200
TZNAME:EET
DTSTART:20261025T010000
END:STANDARD
BEGIN:DAYLIGHT
TZOFFSETFROM:+0200
TZOFFSETTO:+0300
TZNAME:EEST
DTSTART:20270328T010000
END:DAYLIGHT
BEGIN:STANDARD
TZOFFSETFROM:+0300
TZOFFSETTO:+0200
TZNAME:EET
DTSTART:20271031T010000
END:STANDARD
END:VTIMEZONE
BEGIN:VEVENT
DTSTART;TZID=Europe/Vilnius:20260418T153000
DTEND;TZID=Europe/Vilnius:20260418T163000
DTSTAMP:20260421T130658
CREATED:20260331T111242Z
LAST-MODIFIED:20260331T111242Z
UID:44760-1776526200-1776529800@vilnensis.lt
SUMMARY:Ekskursija po buvusį bernardinių vienuolyną
DESCRIPTION:
URL:https://www.facebook.com/events/1494427768873754/?acontext=%7B%22event_action_history%22%3A%5B%7B%22surface%22%3A%22search%22%7D%2C%7B%22mechanism%22%3A%22attachment%22%2C%22surface%22%3A%22newsfeed%22%7D%5D%2C%22ref_notif_type%22%3Anull%7D#new_tab
END:VEVENT
BEGIN:VEVENT
DTSTART;TZID=Europe/Vilnius:20260418T153000
DTEND;TZID=Europe/Vilnius:20260418T163000
DTSTAMP:20260421T130658
CREATED:20260331T111156Z
LAST-MODIFIED:20260331T111156Z
UID:44758-1776526200-1776529800@vilnensis.lt
SUMMARY:Ekskursija Vilniaus katedros požemiuose
DESCRIPTION:
URL:https://www.facebook.com/events/1256500959925142/1256500969925141/?acontext=%7B%22event_action_history%22%3A%5B%7B%22extra_data%22%3A%22%22%2C%22mechanism%22%3A%22unknown%22%2C%22surface%22%3A%22search%22%7D%2C%7B%22extra_data%22%3A%22%22%2C%22mechanism%22%3A%22attachment%22%2C%22surface%22%3A%22newsfeed%22%7D%2C%7B%22extra_data%22%3A%22%22%2C%22mechanism%22%3A%22surface%22%2C%22surface%22%3A%22permalink%22%7D%5D%2C%22ref_notif_type%22%3Anull%7D#new_tab
END:VEVENT
BEGIN:VEVENT
DTSTART;TZID=Europe/Vilnius:20260418T140000
DTEND;TZID=Europe/Vilnius:20260418T153000
DTSTAMP:20260421T130658
CREATED:20260331T111037Z
LAST-MODIFIED:20260331T111037Z
UID:44754-1776520800-1776526200@vilnensis.lt
SUMMARY:Ekstremali ekskursija Vilniaus katedros požemiuose
DESCRIPTION:
URL:https://www.facebook.com/events/2130203344466491/2130203357799823/?acontext=%7B%22event_action_history%22%3A%5B%7B%22extra_data%22%3A%22%22%2C%22mechanism%22%3A%22unknown%22%2C%22surface%22%3A%22search%22%7D%2C%7B%22extra_data%22%3A%22%22%2C%22mechanism%22%3A%22attachment%22%2C%22surface%22%3A%22newsfeed%22%7D%2C%7B%22extra_data%22%3A%22%22%2C%22mechanism%22%3A%22surface%22%2C%22surface%22%3A%22permalink%22%7D%5D%2C%22ref_notif_type%22%3Anull%7D#new_tab
END:VEVENT
BEGIN:VEVENT
DTSTART;TZID=Europe/Vilnius:20260418T140000
DTEND;TZID=Europe/Vilnius:20260418T150000
DTSTAMP:20260421T130659
CREATED:20260331T111115Z
LAST-MODIFIED:20260331T111115Z
UID:44756-1776520800-1776524400@vilnensis.lt
SUMMARY:Ekskursija Bažnytinio paveldo muziejuje „Vilniaus katedros lobynas“
DESCRIPTION:
URL:https://www.facebook.com/events/4319575751695594/4319575765028926/?acontext=%7B%22event_action_history%22%3A%5B%7B%22extra_data%22%3A%22%22%2C%22mechanism%22%3A%22attachment%22%2C%22surface%22%3A%22newsfeed%22%7D%2C%7B%22extra_data%22%3A%22%22%2C%22mechanism%22%3A%22surface%22%2C%22surface%22%3A%22permalink%22%7D%5D%2C%22ref_notif_type%22%3Anull%7D#new_tab
END:VEVENT
BEGIN:VEVENT
DTSTART;TZID=Europe/Vilnius:20260418T120000
DTEND;TZID=Europe/Vilnius:20260418T133000
DTSTAMP:20260421T130659
CREATED:20260331T110950Z
LAST-MODIFIED:20260331T110950Z
UID:47202-1776513600-1776519000@vilnensis.lt
SUMMARY:Šeimų edukacija Vilniuje „Ką dramblys veikia Katedroje?“
DESCRIPTION:
URL:https://www.facebook.com/events/1426116268706950?acontext=%7B%22event_action_history%22%3A%5B%7B%22mechanism%22%3A%22attachment%22%2C%22surface%22%3A%22newsfeed%22%7D%5D%2C%22ref_notif_type%22%3Anull%7D#new_tab
END:VEVENT
BEGIN:VEVENT
DTSTART;TZID=Europe/Vilnius:20260418T120000
DTEND;TZID=Europe/Vilnius:20260418T130000
DTSTAMP:20260421T130659
CREATED:20260408T113044Z
LAST-MODIFIED:20260408T113044Z
UID:44853-1776513600-1776517200@vilnensis.lt
SUMMARY:Šeimų edukacija Bažnytinio paveldo muziejuje „Dovana mamai“
DESCRIPTION:
URL:https://www.facebook.com/events/1281234566916148/?acontext=%7B%22event_action_history%22%3A%5B%7B%22mechanism%22%3A%22attachment%22%2C%22surface%22%3A%22newsfeed%22%7D%5D%2C%22ref_notif_type%22%3Anull%7D#new_tab
END:VEVENT
BEGIN:VEVENT
DTSTART;VALUE=DATE:20260418
DTEND;VALUE=DATE:20260419
DTSTAMP:20260421T130659
CREATED:20260206T085822Z
LAST-MODIFIED:20260206T085822Z
UID:44359-1776470400-1776556799@vilnensis.lt
SUMMARY:﻿Jubiliejinis X-asis piligriminis vyrų žygis
DESCRIPTION:
URL:https://docs.google.com/forms/d/e/1FAIpQLSfsy80u3PQ4Fzg0YKrUFoJEPDnqH95-97KO96ONVKf-dFN0Yw/viewform?usp=preview#new_tab
END:VEVENT
BEGIN:VEVENT
DTSTART;TZID=Europe/Vilnius:20260417T200000
DTEND;TZID=Europe/Vilnius:20260417T230000
DTSTAMP:20260421T130659
CREATED:20260417T113829Z
LAST-MODIFIED:20260417T113829Z
UID:48342-1776456000-1776466800@vilnensis.lt
SUMMARY:Adoracijos ir šlovinimo vakaras Dievo Gailestingumo šventovėje
DESCRIPTION:
URL:https://www.facebook.com/photo/?fbid=1384356073730132&#038;set=a.547230330776048#new_tab
END:VEVENT
BEGIN:VEVENT
DTSTART;TZID=Europe/Vilnius:20260417T183000
DTEND;TZID=Europe/Vilnius:20260417T210000
DTSTAMP:20260421T130659
CREATED:20260417T113759Z
LAST-MODIFIED:20260417T113759Z
UID:48339-1776450600-1776459600@vilnensis.lt
SUMMARY:Velykinės Taizé pamaldos Vilniaus Šv. Jono Pauliaus II parapijoje
DESCRIPTION:
URL:https://www.facebook.com/events/2138551550253637/?acontext=%7B%22event_action_history%22%3A%5B%7B%22mechanism%22%3A%22attachment%22%2C%22surface%22%3A%22newsfeed%22%7D%5D%2C%22ref_notif_type%22%3Anull%7D#new_tab
END:VEVENT
BEGIN:VEVENT
DTSTART;TZID=Europe/Vilnius:20260413T190000
DTEND;TZID=Europe/Vilnius:20260413T220000
DTSTAMP:20260421T130659
CREATED:20260331T110811Z
LAST-MODIFIED:20260331T110811Z
UID:47201-1776106800-1776117600@vilnensis.lt
SUMMARY:Šeimos ir asmens saviugdos centras „Bendrakeleiviai“ pradeda programą „Meilė greta netobulumo“
DESCRIPTION:
URL:https://www.facebook.com/events/1966210708107516?acontext=%7B%22event_action_history%22%3A%5B%7B%22surface%22%3A%22search%22%7D%2C%7B%22mechanism%22%3A%22attachment%22%2C%22surface%22%3A%22newsfeed%22%7D%5D%2C%22ref_notif_type%22%3Anull%7D#new_tab
END:VEVENT
BEGIN:VEVENT
DTSTART;TZID=Europe/Vilnius:20260413T180000
DTEND;TZID=Europe/Vilnius:20260413T200000
DTSTAMP:20260421T130659
CREATED:20260331T110733Z
LAST-MODIFIED:20260331T110733Z
UID:44748-1776103200-1776110400@vilnensis.lt
SUMMARY:Nuotolinė paskaita „Išsiskirti gražiuoju“
DESCRIPTION:
URL:https://www.facebook.com/events/1364109138812657/#new_tab
END:VEVENT
BEGIN:VEVENT
DTSTART;TZID=Europe/Vilnius:20260411T210000
DTEND;TZID=Europe/Vilnius:20260411T223000
DTSTAMP:20260421T130659
CREATED:20260408T112942Z
LAST-MODIFIED:20260408T112942Z
UID:44851-1775941200-1775946600@vilnensis.lt
SUMMARY:Ekumeninė procesija Vilniuje nuo Aušros Vartų į Dievo Gailestingumo šventovę „Šviesos kelias“
DESCRIPTION:
URL:https://www.facebook.com/events/1316050280368505/?acontext=%7B%22event_action_history%22%3A%5B%7B%22mechanism%22%3A%22attachment%22%2C%22surface%22%3A%22newsfeed%22%7D%5D%2C%22ref_notif_type%22%3Anull%7D#new_tab
END:VEVENT
BEGIN:VEVENT
DTSTART;TZID=Europe/Vilnius:20260411T183000
DTEND;TZID=Europe/Vilnius:20260411T220000
DTSTAMP:20260421T130659
CREATED:20260408T112736Z
LAST-MODIFIED:20260408T112736Z
UID:44849-1775932200-1775944800@vilnensis.lt
SUMMARY:Jaunimo maldos vakaras Vilniaus Visų Šventųjų bažnyčioje
DESCRIPTION:
URL:https://www.facebook.com/events/923581673910430?acontext=%7B%22event_action_history%22%3A%5B%7B%22mechanism%22%3A%22attachment%22%2C%22surface%22%3A%22newsfeed%22%7D%5D%2C%22ref_notif_type%22%3Anull%7D#new_tab
END:VEVENT
BEGIN:VEVENT
DTSTART;TZID=Europe/Vilnius:20260411T153000
DTEND;TZID=Europe/Vilnius:20260411T163000
DTSTAMP:20260421T130659
CREATED:20260331T110633Z
LAST-MODIFIED:20260331T110633Z
UID:44745-1775921400-1775925000@vilnensis.lt
SUMMARY:Ekskursija Bažnytinio paveldo muziejuje „Buvau keleivis. Jeruzalė\, Roma\, Santjago de Kompostela“
DESCRIPTION:
URL:https://www.facebook.com/events/1467908194774130/1467908201440796?acontext=%7B%22event_action_history%22%3A%5B%7B%22mechanism%22%3A%22attachment%22%2C%22surface%22%3A%22newsfeed%22%7D%5D%2C%22ref_notif_type%22%3Anull%7D#new_tab
END:VEVENT
BEGIN:VEVENT
DTSTART;TZID=Europe/Vilnius:20260411T140000
DTEND;TZID=Europe/Vilnius:20260411T150000
DTSTAMP:20260421T130659
CREATED:20260331T110506Z
LAST-MODIFIED:20260331T110506Z
UID:44743-1775916000-1775919600@vilnensis.lt
SUMMARY:Ekskursija Bažnytinio paveldo muziejuje „Vilniaus katedros lobynas“
DESCRIPTION:
URL:https://www.facebook.com/events/4319575751695594/4319575755028927?acontext=%7B%22event_action_history%22%3A%5B%7B%22mechanism%22%3A%22attachment%22%2C%22surface%22%3A%22newsfeed%22%7D%5D%2C%22ref_notif_type%22%3Anull%7D#new_tab
END:VEVENT
BEGIN:VEVENT
DTSTART;TZID=Europe/Vilnius:20260411T140000
DTEND;TZID=Europe/Vilnius:20260411T150000
DTSTAMP:20260421T130659
CREATED:20260331T110357Z
LAST-MODIFIED:20260331T110357Z
UID:44741-1775916000-1775919600@vilnensis.lt
SUMMARY:Ekstremali ekskursija Vilniaus katedros požemiuose
DESCRIPTION:
URL:https://www.facebook.com/events/2130203344466491/2130203351133157/?acontext=%7B%22event_action_history%22%3A%5B%7B%22surface%22%3A%22search%22%7D%2C%7B%22mechanism%22%3A%22attachment%22%2C%22surface%22%3A%22newsfeed%22%7D%5D%2C%22ref_notif_type%22%3Anull%7D#new_tab
END:VEVENT
BEGIN:VEVENT
DTSTART;TZID=Europe/Vilnius:20260328T130000
DTEND;TZID=Europe/Vilnius:20260328T140000
DTSTAMP:20260421T130659
CREATED:20260312T123902Z
LAST-MODIFIED:20260312T123902Z
UID:44645-1774702800-1774706400@vilnensis.lt
SUMMARY:Bažnytinio paveldo muziejuje teminė ekskursija „Lobynas. Didžioji savaitė“
DESCRIPTION:
URL:https://www.bpmuziejus.lt/dabar-vyksta/temine-ekskursija-lobynas-didzioji-savaite/#new_tab
END:VEVENT
BEGIN:VEVENT
DTSTART;TZID=Europe/Vilnius:20260325T183000
DTEND;TZID=Europe/Vilnius:20260325T183000
DTSTAMP:20260421T130659
CREATED:20260312T123811Z
LAST-MODIFIED:20260312T123811Z
UID:44643-1774463400-1774463400@vilnensis.lt
SUMMARY:Open VAJC. Maldos vakaras
DESCRIPTION:
URL:https://www.facebook.com/events/899710969436683/?acontext=%7B%22event_action_history%22%3A%5B%7B%22surface%22%3A%22search%22%7D%2C%7B%22mechanism%22%3A%22surface%22%2C%22surface%22%3A%22groups_highlight_units%22%7D%5D%2C%22ref_notif_type%22%3Anull%7D#new_tab
END:VEVENT
BEGIN:VEVENT
DTSTART;TZID=Europe/Vilnius:20260321T110000
DTEND;TZID=Europe/Vilnius:20260321T130000
DTSTAMP:20260421T130659
CREATED:20260312T123634Z
LAST-MODIFIED:20260312T123634Z
UID:47200-1774090800-1774098000@vilnensis.lt
SUMMARY:Edukacija šeimoms „Verbų sekmadienis“
DESCRIPTION:
URL:https://www.bpmuziejus.lt/dabar-vyksta/edukacija-seimoms-verbu-sekmadienis/#new_tab
END:VEVENT
BEGIN:VEVENT
DTSTART;TZID=Europe/Vilnius:20260314T080000
DTEND;TZID=Europe/Vilnius:20260314T170000
DTSTAMP:20260421T130659
CREATED:20260220T114936Z
LAST-MODIFIED:20260220T114936Z
UID:44446-1773475200-1773507600@vilnensis.lt
SUMMARY:Šeimos centras: Mamos ir dukros popietė
DESCRIPTION:
URL:https://www.vasc.lt/node/546#new_tab
END:VEVENT
BEGIN:VEVENT
DTSTART;TZID=Europe/Vilnius:20260308T080000
DTEND;TZID=Europe/Vilnius:20260308T170000
DTSTAMP:20260421T130659
CREATED:20260220T114824Z
LAST-MODIFIED:20260220T114824Z
UID:44444-1772956800-1772989200@vilnensis.lt
SUMMARY:Susitikimų ciklas merginoms: skaitykime Šv. Raštą drauge
DESCRIPTION:
URL:https://svjonoseserys.lt/susitikimu-ciklas-merginoms/#new_tab
END:VEVENT
BEGIN:VEVENT
DTSTART;TZID=Europe/Vilnius:20260307T140000
DTEND;TZID=Europe/Vilnius:20260307T150000
DTSTAMP:20260421T130659
CREATED:20260304T093906Z
LAST-MODIFIED:20260304T093906Z
UID:44540-1772892000-1772895600@vilnensis.lt
SUMMARY:Ekskursija „ Šv. Kazimieras lobyne“
DESCRIPTION:
URL:http://facebook.com/events/786720224482208/?acontext=%7Bevent_action_history%3A%5b%7Bmechanism%3Aattachment%2Csurface%3Anewsfeed%7D%5d%2Cref_notif_type%3Anull%7D#new_tab
END:VEVENT
BEGIN:VEVENT
DTSTART;TZID=Europe/Vilnius:20260307T110000
DTEND;TZID=Europe/Vilnius:20260307T180000
DTSTAMP:20260421T130659
CREATED:20260304T093752Z
LAST-MODIFIED:20260304T093752Z
UID:44538-1772881200-1772906400@vilnensis.lt
SUMMARY:Vilniaus karalaitis šv. Kazimieras | orientacinis žaidimas
DESCRIPTION:
URL:https://www.facebook.com/events/752494984360303?acontext=%7B%22event_action_history%22%3A%5B%7B%22mechanism%22%3A%22attachment%22%2C%22surface%22%3A%22newsfeed%22%7D%5D%2C%22ref_notif_type%22%3Anull%7D#new_tab
END:VEVENT
BEGIN:VEVENT
DTSTART;TZID=Europe/Vilnius:20260306T170000
DTEND;TZID=Europe/Vilnius:20260308T150000
DTSTAMP:20260421T130659
CREATED:20260212T140720Z
LAST-MODIFIED:20260212T140720Z
UID:44386-1772816400-1772982000@vilnensis.lt
SUMMARY:Gavėnios rekolekcijos pal. Jurgio Matulaičio dvasinių konferencijų šviesoje
DESCRIPTION:
URL:https://www.facebook.com/events/920558850668477/?rdid=gYlLbMLbvqlEGtLQ&#038;share_url=https%3A%2F%2Fwww.facebook.com%2Fshare%2F1DPiJsJHBU%2F##new_tab
END:VEVENT
BEGIN:VEVENT
DTSTART;TZID=Europe/Vilnius:20260304T080000
DTEND;TZID=Europe/Vilnius:20260304T170000
DTSTAMP:20260421T130659
CREATED:20260220T114721Z
LAST-MODIFIED:20260220T114721Z
UID:44442-1772611200-1772643600@vilnensis.lt
SUMMARY:Šeimos centras: Ko reikia kiekvienai mamai
DESCRIPTION:
URL:https://www.vasc.lt/node/545#new_tab
END:VEVENT
BEGIN:VEVENT
DTSTART;TZID=Europe/Vilnius:20260301T080000
DTEND;TZID=Europe/Vilnius:20260308T170000
DTSTAMP:20260421T130659
CREATED:20260206T093934Z
LAST-MODIFIED:20260206T093934Z
UID:44363-1772352000-1772989200@vilnensis.lt
SUMMARY:Šv. Kazimiero atlaidai
DESCRIPTION:
URL:https://katedra.lt/index.php?id=10&#038;ncid=1&#038;nid=1032#new_tab
END:VEVENT
BEGIN:VEVENT
DTSTART;TZID=Europe/Vilnius:20260224T170000
DTEND;TZID=Europe/Vilnius:20260224T173000
DTSTAMP:20260421T130659
CREATED:20260220T114623Z
LAST-MODIFIED:20260220T114623Z
UID:44440-1771952400-1771954200@vilnensis.lt
SUMMARY:Ekskursija Vilniaus katedros požemiuose RADAROM
DESCRIPTION:
URL:https://www.facebook.com/events/796455486809737/796455496809736/?active_tab=about#new_tab
END:VEVENT
BEGIN:VEVENT
DTSTART;TZID=Europe/Vilnius:20260221T183000
DTEND;TZID=Europe/Vilnius:20260221T183000
DTSTAMP:20260421T130659
CREATED:20260220T114317Z
LAST-MODIFIED:20260220T114317Z
UID:44438-1771698600-1771698600@vilnensis.lt
SUMMARY:Vilniaus Švč. M. Marijos Nekaltojo Prasidėjimo bažnyčioje koncertas „Viltis\, kuri gieda | Muzikinė malda už taiką“
DESCRIPTION:
URL:https://www.facebook.com/photo/?fbid=2812692772456038&#038;set=a.1001683023557031#new_tab
END:VEVENT
BEGIN:VEVENT
DTSTART;TZID=Europe/Vilnius:20260221T153000
DTEND;TZID=Europe/Vilnius:20260221T163000
DTSTAMP:20260421T130659
CREATED:20260220T113649Z
LAST-MODIFIED:20260220T113649Z
UID:44433-1771687800-1771691400@vilnensis.lt
SUMMARY:Ekskursija po parodą „Ineffabilis Deus. Ziedajs lauku ir giriu Lietuwos“
DESCRIPTION:
URL:https://www.bpmuziejus.lt/virsutinis-meniu-ekskursijos/ekskursija-su-kuratoriumi-po-paroda-ineffabilis-deus-ziedajs-lauku-ir-giriu-lietuwos-copy-copy/#new_tab
END:VEVENT
BEGIN:VEVENT
DTSTART;TZID=Europe/Vilnius:20260221T080000
DTEND;TZID=Europe/Vilnius:20260228T170000
DTSTAMP:20260421T130659
CREATED:20260220T113903Z
LAST-MODIFIED:20260220T113903Z
UID:44435-1771660800-1772298000@vilnensis.lt
SUMMARY:Vilniaus arkikatedroje bazilikoje gavėnios rekolekcijos šeštadieniais
DESCRIPTION:
URL:https://katedra.lt/site/files/file/2026/Gavenia_plakatai_2026-web.jpg#new_tab
END:VEVENT
END:VCALENDAR