BEGIN:VCALENDAR
VERSION:2.0
PRODID:-//Vilniaus arkivyskupija - ECPv6.15.20//NONSGML v1.0//EN
CALSCALE:GREGORIAN
METHOD:PUBLISH
X-ORIGINAL-URL:https://vilnensis.lt
X-WR-CALDESC:Vilniaus arkivyskupija renginiai
REFRESH-INTERVAL;VALUE=DURATION:PT1H
X-Robots-Tag:noindex
X-PUBLISHED-TTL:PT1H
BEGIN:VTIMEZONE
TZID:Europe/Vilnius
BEGIN:DAYLIGHT
TZOFFSETFROM:+0200
TZOFFSETTO:+0300
TZNAME:EEST
DTSTART:20250330T010000
END:DAYLIGHT
BEGIN:STANDARD
TZOFFSETFROM:+0300
TZOFFSETTO:+0200
TZNAME:EET
DTSTART:20251026T010000
END:STANDARD
BEGIN:DAYLIGHT
TZOFFSETFROM:+0200
TZOFFSETTO:+0300
TZNAME:EEST
DTSTART:20260329T010000
END:DAYLIGHT
BEGIN:STANDARD
TZOFFSETFROM:+0300
TZOFFSETTO:+0200
TZNAME:EET
DTSTART:20261025T010000
END:STANDARD
BEGIN:DAYLIGHT
TZOFFSETFROM:+0200
TZOFFSETTO:+0300
TZNAME:EEST
DTSTART:20270328T010000
END:DAYLIGHT
BEGIN:STANDARD
TZOFFSETFROM:+0300
TZOFFSETTO:+0200
TZNAME:EET
DTSTART:20271031T010000
END:STANDARD
END:VTIMEZONE
BEGIN:VEVENT
DTSTART;VALUE=DATE:20260126
DTEND;VALUE=DATE:20260127
DTSTAMP:20260421T143107
CREATED:20260113T144737Z
LAST-MODIFIED:20260113T144737Z
UID:47196-1769385600-1769471999@vilnensis.lt
SUMMARY:ALFA kursas Vilniaus Kalvarijose
DESCRIPTION:
URL:https://vilniauskalvarijos.lt/kvieciame-dalyvauti-alfa-kurse/#new_tab
END:VEVENT
BEGIN:VEVENT
DTSTART;TZID=Europe/Vilnius:20260125T132000
DTEND;TZID=Europe/Vilnius:20260125T182000
DTSTAMP:20260421T143107
CREATED:20260120T100752Z
LAST-MODIFIED:20260120T100752Z
UID:44228-1769347200-1769365200@vilnensis.lt
SUMMARY:Dievo Žodžio sekmadienis Joanituose
DESCRIPTION:
URL:https://www.facebook.com/photo/?fbid=1283189397176664&#038;set=a.546296377532640#new_tab
END:VEVENT
BEGIN:VEVENT
DTSTART;TZID=Europe/Vilnius:20260124T163000
DTEND;TZID=Europe/Vilnius:20260328T200000
DTSTAMP:20260421T143107
CREATED:20260113T150949Z
LAST-MODIFIED:20260303T100008Z
UID:44198-1769272200-1774728000@vilnensis.lt
SUMMARY:Vilniaus Pal. Jurgio Matulaičio TITULINIAI ATLAIDAI
DESCRIPTION:
URL:https://www.facebook.com/events/901950582183285?acontext=%7B%22event_action_history%22%3A%5B%7B%22surface%22%3A%22search%22%7D%2C%7B%22mechanism%22%3A%22attachment%22%2C%22surface%22%3A%22newsfeed%22%7D%5D%2C%22ref_notif_type%22%3Anull%7D#new_tab
END:VEVENT
BEGIN:VEVENT
DTSTART;TZID=Europe/Vilnius:20260124T163000
DTEND;TZID=Europe/Vilnius:20260125T200000
DTSTAMP:20260421T143107
CREATED:20260113T150949Z
LAST-MODIFIED:20260113T150949Z
UID:47198-1769272200-1769371200@vilnensis.lt
SUMMARY:Vilniaus Pal. Jurgio Matulaičio TITULINIAI ATLAIDAI
DESCRIPTION:
URL:https://www.facebook.com/events/901950582183285?acontext=%7B%22event_action_history%22%3A%5B%7B%22surface%22%3A%22search%22%7D%2C%7B%22mechanism%22%3A%22attachment%22%2C%22surface%22%3A%22newsfeed%22%7D%5D%2C%22ref_notif_type%22%3Anull%7D#new_tab
END:VEVENT
END:VCALENDAR